BEGIN:VCALENDAR
VERSION:2.0
PRODID:-//wp-events-plugin.com//7.2.3.1//EN
TZID:America/Denver
X-WR-TIMEZONE:America/Denver
BEGIN:VEVENT
UID:598@krystal93.com
DTSTART;TZID=America/Denver;VALUE=DATE:20230609
DTEND;TZID=America/Denver;VALUE=DATE:20230611
DTSTAMP:20230601T014004Z
URL:https://krystal93.com/events/10-mile-pride/
SUMMARY:10 Mile Pride
DESCRIPTION:What: 10 Mile Pride (Celebration of June Pride Month)  \n\nWh
 en: June 9 and 10  \n\nWhere: Breckenridge \n\nThere’s a full list of
  events for both days at 10milepride.com.\n\nEvent Schedule\n\nFriday\, Ju
 ne 9\n\nDEI Workshop: Allyship in the Workplace\n\nJun 09\, 4:00 PM – 5:
 30 PM\n\n@ Breckenridge Town Hall\n\n \n\nFireside chat with Mitch Ringqu
 ist\n\nFri\, Jun 09 6:30pm-7:30pm\n\n@ RMU upstairs (all ages)\n\nSaturday
 \, June 10\n\nAlign with Pride Yoga\n\nSat\, Jun 10\n\n@Riverwalk Cent
 er Lawn\n\n \n\nCommunity Gathering @ the Arts District\n\nHigh energy tu
 nes\, drag queen performances\, variety of food &amp\; beverages and enter
 tainment\n\nSat\, Jun 10\n\n@The Arts District\n\n \n\nPride Ride Down 
 Main Street\n\nSat\, Jun 10\n\n@The Arts District\n\n \n\n10 Mile Prid
 e After Party\n\nSat\, Jun 10\n\n@RMU
END:VEVENT
BEGIN:VTIMEZONE
TZID:America/Denver
X-LIC-LOCATION:America/Denver
BEGIN:DAYLIGHT
DTSTART:20230312T030000
TZOFFSETFROM:-0700
TZOFFSETTO:-0600
TZNAME:MDT
END:DAYLIGHT
END:VTIMEZONE
END:VCALENDAR