BEGIN:VCALENDAR
VERSION:2.0
PRODID:-//wp-events-plugin.com//7.2.3.1//EN
TZID:America/Denver
X-WR-TIMEZONE:America/Denver
BEGIN:VEVENT
UID:1825@krystal93.com
DTSTART;TZID=America/Denver:20260207T200000
DTEND;TZID=America/Denver:20260207T230000
DTSTAMP:20260203T032622Z
URL:https://krystal93.com/events/10mmh-6-million-dollar-band/
SUMMARY:10MMH - 6 Million Dollar Band
DESCRIPTION:Krystal 93 and Z-2 Entertainment invite you to go back to the 8
 0s with 6 Million Dollar Band at 10 Mile Music Hall Saturday February 7.
  We’ll give you chances to win tickets on Krystal 93. Tickets: https://
 www.z2ent.com/events/detail/jammy-buffet-10m-2026
CATEGORIES:10 Mile Music Hall
END:VEVENT
BEGIN:VTIMEZONE
TZID:America/Denver
X-LIC-LOCATION:America/Denver
BEGIN:STANDARD
DTSTART:20251102T010000
TZOFFSETFROM:-0600
TZOFFSETTO:-0700
TZNAME:MST
END:STANDARD
END:VTIMEZONE
END:VCALENDAR