BEGIN:VCALENDAR
VERSION:2.0
PRODID:-//wp-events-plugin.com//7.2.3.1//EN
TZID:America/Denver
X-WR-TIMEZONE:America/Denver
BEGIN:VEVENT
UID:1824@krystal93.com
DTSTART;TZID=America/Denver:20260205T203000
DTEND;TZID=America/Denver:20260205T223000
DTSTAMP:20260203T032423Z
URL:https://krystal93.com/events/10mmh-jammy-buffet/
SUMMARY:10MMH - Jammy Buffet
DESCRIPTION:Krystal 93 and Z-2 Entertainment invite you to get down and get
  jammy with Jammy Buffett at 10 Mile Music Hall Thursday\, February 5
 . We’ll give you chances to win tickets during Ticket Window Wednesday 
 on February 4. Ticket Window Wednesday is brought to you by Greers Applian
 ce Center. Tickets: https://www.z2ent.com/events/detail/jammy-buffet-10m-2
 026
CATEGORIES:10 Mile Music Hall
END:VEVENT
BEGIN:VTIMEZONE
TZID:America/Denver
X-LIC-LOCATION:America/Denver
BEGIN:STANDARD
DTSTART:20251102T010000
TZOFFSETFROM:-0600
TZOFFSETTO:-0700
TZNAME:MST
END:STANDARD
END:VTIMEZONE
END:VCALENDAR