BEGIN:VCALENDAR
VERSION:2.0
PRODID:-//wp-events-plugin.com//7.2.3.1//EN
TZID:America/Denver
X-WR-TIMEZONE:America/Denver
BEGIN:VEVENT
UID:1828@krystal93.com
DTSTART;TZID=America/Denver:20260228T203000
DTEND;TZID=America/Denver:20260228T233000
DTSTAMP:20260203T033326Z
URL:https://krystal93.com/events/10mmh-penelope-road/
SUMMARY:10MMH - Penelope Road
DESCRIPTION:Krystal 93 and Z-2 Entertainment invite you to enjoy the music 
 of Penelope Road at 10 Mile Music Hall Saturday February 28 at 8:30pm. W
 e’ll give you chances to win tickets on Krystal 93. Buy Tickets: https:/
 /www.z2ent.com/events/detail/penelope-road-10m-2026
CATEGORIES:10 Mile Music Hall
END:VEVENT
BEGIN:VTIMEZONE
TZID:America/Denver
X-LIC-LOCATION:America/Denver
BEGIN:STANDARD
DTSTART:20251102T010000
TZOFFSETFROM:-0600
TZOFFSETTO:-0700
TZNAME:MST
END:STANDARD
END:VTIMEZONE
END:VCALENDAR