BEGIN:VCALENDAR
VERSION:2.0
PRODID:-//wp-events-plugin.com//7.2.3.1//EN
TZID:America/Denver
X-WR-TIMEZONE:America/Denver
BEGIN:VEVENT
UID:1773@krystal93.com
DTSTART;TZID=America/Denver:20251206T200000
DTEND;TZID=America/Denver:20251206T233000
DTSTAMP:20251202T135257Z
URL:https://krystal93.com/events/10mmh-pickin-on-the-dead/
SUMMARY:10MMH - Pickin' on the Dead
DESCRIPTION:\n\n\nDecember 13 @ 8:00 PM - 11:30 PM\nPickin’ On The Dead
 \n\n\n\nJUST ANNOUNCED Pickin’ On The Dead\, comprised of Tyler Grant Mu
 sic\, Ace Engfer Music\, Michael Kirkpatrick\, Sean Macauly\, and Bill McK
 ay\, makes their return to 10 Mile Music Hall on Saturday\, December 13th!
  Don’t miss out on a night which brings the Grateful Dead experience 
 …\n\n\n\n\n
CATEGORIES:10 Mile Music Hall
END:VEVENT
BEGIN:VTIMEZONE
TZID:America/Denver
X-LIC-LOCATION:America/Denver
BEGIN:STANDARD
DTSTART:20251102T010000
TZOFFSETFROM:-0600
TZOFFSETTO:-0700
TZNAME:MST
END:STANDARD
END:VTIMEZONE
END:VCALENDAR