BEGIN:VCALENDAR
VERSION:2.0
PRODID:-//wp-events-plugin.com//7.2.3.1//EN
TZID:America/Denver
X-WR-TIMEZONE:America/Denver
BEGIN:VEVENT
UID:1774@krystal93.com
DTSTART;TZID=America/Denver:20251227T200000
DTEND;TZID=America/Denver:20251227T233000
DTSTAMP:20251202T135413Z
URL:https://krystal93.com/events/10mmh-shakedown-street/
SUMMARY:10MMH - Shakedown Street
DESCRIPTION:\n\n\n\n\nDecember 27 @ 8:00 PM - 11:30 PM\nShakedown Street 
 Plays 12/27/87\n10 Mile Music Hall 710 Main St\, Frisco\, CO\, United Sta
 tes\n\n\nZ2 Entertainment PresentsShakedown Street plays 12/27/87at 10 Mil
 e Music Hall Doors - 8:00pmShow - 8:30pm General Admission Tickets Ages: 1
 8+ Get Tickets: http://z2ent.com/events/detail/shakedown-street-10m-2025 
 Recommended if you like: Grateful Dead\, Dark Star Orchestra\, Phish\, The
  Band\, Allman Brothers Band\, Jerry Garcia Band\n\n\n\n\n\n\n
CATEGORIES:10 Mile Music Hall
END:VEVENT
BEGIN:VTIMEZONE
TZID:America/Denver
X-LIC-LOCATION:America/Denver
BEGIN:STANDARD
DTSTART:20251102T010000
TZOFFSETFROM:-0600
TZOFFSETTO:-0700
TZNAME:MST
END:STANDARD
END:VTIMEZONE
END:VCALENDAR