BEGIN:VCALENDAR
VERSION:2.0
PRODID:-//wp-events-plugin.com//7.2.3.1//EN
TZID:America/Denver
X-WR-TIMEZONE:America/Denver
BEGIN:VEVENT
UID:1772@krystal93.com
DTSTART;TZID=America/Denver:20251206T200000
DTEND;TZID=America/Denver:20251206T230000
DTSTAMP:20251202T135209Z
URL:https://krystal93.com/events/10mmh-shrek-rave-2/
SUMMARY:10MMH - Shrek Rave
DESCRIPTION:\n\nDecember 6 @ 8:00 PM - 11:30 PM\nMoontricks\n10 Mile Musi
 c Hall 710 Main St\, Frisco\, CO\, United States\n\n\nTICKETS Based in th
 e rustic Kootenay mountains of Western Canada\, Nathan Gurley and Sean Rod
 man of nationally renowned electro-folk duo Moontricks draw inspiration fr
 om the ongoing cycles of the natural world.\n\n\n\n
CATEGORIES:10 Mile Music Hall
END:VEVENT
BEGIN:VTIMEZONE
TZID:America/Denver
X-LIC-LOCATION:America/Denver
BEGIN:STANDARD
DTSTART:20251102T010000
TZOFFSETFROM:-0600
TZOFFSETTO:-0700
TZNAME:MST
END:STANDARD
END:VTIMEZONE
END:VCALENDAR