BEGIN:VCALENDAR
VERSION:2.0
PRODID:-//wp-events-plugin.com//7.2.3.1//EN
TZID:America/Denver
X-WR-TIMEZONE:America/Denver
BEGIN:VEVENT
UID:1771@krystal93.com
DTSTART;TZID=America/Denver:20251205T203000
DTEND;TZID=America/Denver:20251205T233000
DTSTAMP:20251202T135128Z
URL:https://krystal93.com/events/10mmh-shrek-rave/
SUMMARY:10MMH - Shrek Rave
DESCRIPTION:\nDecember 5 @ 8:30 PM - 11:30 PM\nShrek Rave\n10 Mile Music 
 Hall 710 Main St\, Frisco\, CO\, United States\n\n\nZ2 Entertainment &amp
 \; Krystal 93 Present Shrek Raveat 10 Mile Music Hall Doors - 8:30pmShow -
  9:00pm General Admission Tickets Ages: 18+ Get Tickets: http://www.z2ent
 .com/events/detail/shrek-rave-10m-dec-2025 IT'S DUMB JUST COME HAVE FUN. W
 HO CARES. COOL IS DEAD.\n\n
CATEGORIES:10 Mile Music Hall
END:VEVENT
BEGIN:VTIMEZONE
TZID:America/Denver
X-LIC-LOCATION:America/Denver
BEGIN:STANDARD
DTSTART:20251102T010000
TZOFFSETFROM:-0600
TZOFFSETTO:-0700
TZNAME:MST
END:STANDARD
END:VTIMEZONE
END:VCALENDAR