BEGIN:VCALENDAR
VERSION:2.0
PRODID:-//wp-events-plugin.com//7.2.3.1//EN
TZID:America/Denver
X-WR-TIMEZONE:America/Denver
BEGIN:VEVENT
UID:1827@krystal93.com
DTSTART;TZID=America/Denver:20260226T200000
DTEND;TZID=America/Denver:20260226T230000
DTSTAMP:20260203T033150Z
URL:https://krystal93.com/events/10mmh-steely-dead-2/
SUMMARY:10MMH - Steely Dead
DESCRIPTION:Krystal 93 and Z-2 Entertainment invite you to enjoy the sonic 
 fusion of Grateful Dead and Steely Dan with "Steely Dead" at 10 Mile Music
  Hall Thursday  February 26 at 8pm. We’ll give you chances to win tic
 kets on Krystal 93. Buy Tickets:https://www.z2ent.com/events/detail/big-ri
 chard-10m-2026
CATEGORIES:10 Mile Music Hall
END:VEVENT
BEGIN:VTIMEZONE
TZID:America/Denver
X-LIC-LOCATION:America/Denver
BEGIN:STANDARD
DTSTART:20251102T010000
TZOFFSETFROM:-0600
TZOFFSETTO:-0700
TZNAME:MST
END:STANDARD
END:VTIMEZONE
END:VCALENDAR