BEGIN:VCALENDAR
VERSION:2.0
PRODID:-//wp-events-plugin.com//7.2.3.1//EN
TZID:America/Denver
X-WR-TIMEZONE:America/Denver
BEGIN:VEVENT
UID:980@krystal93.com
DTSTART;TZID=America/Denver:20240510T120000
DTEND;TZID=America/Denver:20240510T130000
DTSTAMP:20240501T183031Z
URL:https://krystal93.com/events/22441/
SUMMARY:C-Rock Friday Freebie
DESCRIPTION: C-Rock 103.3’s Friday Freebie on May 10. You can win tickets
  to see the Black Pumas June 16 at the Gerald Ford Theater. Just listen ov
 er the noon hour this coming Friday. We’re ready to rock your world with
  live music with Friday Freebies on C-Rock 103.3.  
END:VEVENT
BEGIN:VTIMEZONE
TZID:America/Denver
X-LIC-LOCATION:America/Denver
BEGIN:DAYLIGHT
DTSTART:20240310T030000
TZOFFSETFROM:-0700
TZOFFSETTO:-0600
TZNAME:MDT
END:DAYLIGHT
END:VTIMEZONE
END:VCALENDAR