BEGIN:VCALENDAR
VERSION:2.0
PRODID:-//wp-events-plugin.com//7.2.3.1//EN
TZID:America/Denver
X-WR-TIMEZONE:America/Denver
BEGIN:VEVENT
UID:1131@krystal93.com
DTSTART;TZID=America/Denver:20240810T120000
DTEND;TZID=America/Denver:20240810T193000
DTSTAMP:20240805T173137Z
URL:https://krystal93.com/events/29389/
SUMMARY:Copper Country Music Fest
DESCRIPTION:2024 Copper Country Music Fest Lineup\n\n 	12-4pm | Mechanical 
 bull rides | Jack's Lawn\n 	2-3:30pm | The Country Music Project | Eagle's
  Landing\n 	4-5:30pm | Chancey Williams | Eagle's Landing\n 	6-7:30pm | Jo
 sh Abbott Band | Eagle's Landing\n\nBrowse Our Copper Mountain Vacation Re
 ntals to plan for this exciting event.\n&nbsp\;
END:VEVENT
BEGIN:VTIMEZONE
TZID:America/Denver
X-LIC-LOCATION:America/Denver
BEGIN:DAYLIGHT
DTSTART:20240310T030000
TZOFFSETFROM:-0700
TZOFFSETTO:-0600
TZNAME:MDT
END:DAYLIGHT
END:VTIMEZONE
END:VCALENDAR