BEGIN:VCALENDAR
VERSION:2.0
PRODID:-//wp-events-plugin.com//7.2.3.1//EN
TZID:America/Denver
X-WR-TIMEZONE:America/Denver
BEGIN:VEVENT
UID:1901@krystal93.com
DTSTART;TZID=America/Denver;VALUE=DATE:20260408
DTEND;TZID=America/Denver;VALUE=DATE:20260409
DTSTAMP:20260329T134408Z
URL:https://krystal93.com/events/37th-annual-enduro-apres-party/
SUMMARY:37th Annual Enduro & Apres Party
DESCRIPTION:Mother Nature’s warm temps mean some changes for the 37th A
 nnual Enduro and Après Party at Arapahoe Basin on Wednesday\, April 8
 th! There will not be a skiing portion because the Pali lift will be clo
 sed by the 8th. But—there will be golf! That’s right... Golf!  A-
 Basin will also have Apres ski and silent auction to raise funds for To
 dd Hanson\, a local fighting pancreatic cancer\, and Kaileen Pickett-Heaps
 \, honoring the legacy of her husband\, Dave. The Après Party will go o
 n with an Italian dinner\, live music\, and the biggest fundraiser: the si
 lent auction. Want to support? Donate a product or service by calling ABas
 in. Krystal Media Supports the Summit. 
END:VEVENT
BEGIN:VTIMEZONE
TZID:America/Denver
X-LIC-LOCATION:America/Denver
BEGIN:DAYLIGHT
DTSTART:20260308T030000
TZOFFSETFROM:-0700
TZOFFSETTO:-0600
TZNAME:MDT
END:DAYLIGHT
END:VTIMEZONE
END:VCALENDAR