BEGIN:VCALENDAR
VERSION:2.0
PRODID:-//wp-events-plugin.com//7.2.3.1//EN
TZID:America/Denver
X-WR-TIMEZONE:America/Denver
BEGIN:VEVENT
UID:1276@krystal93.com
DTSTART;TZID=America/Denver:20241206T163000
DTEND;TZID=America/Denver:20241206T203000
DTSTAMP:20241201T202152Z
URL:https://krystal93.com/events/38382/
SUMMARY:December First Friday
DESCRIPTION:Celebrate the holidays with Silverthorne’s December First Fri
 day\, December 6. Head over to the Silverthorne Pavilion between 4:30 and 
 8:30pm for the annual Lighting of Silverthorne and shop at the Holiday Art
  Market. You can get pics with Santa\, listen to Holiday Carolers\, and fi
 nd artwork from local vendors. Plus\, the lighting ceremony. Learn more ab
 out December First Friday at Silverthorne-dot-org. Krystal Media Supports 
 the Summit. 
CATEGORIES:Family Event,Town of Silverthorne
END:VEVENT
BEGIN:VTIMEZONE
TZID:America/Denver
X-LIC-LOCATION:America/Denver
BEGIN:STANDARD
DTSTART:20241103T010000
TZOFFSETFROM:-0600
TZOFFSETTO:-0700
TZNAME:MST
END:STANDARD
END:VTIMEZONE
END:VCALENDAR