BEGIN:VCALENDAR
VERSION:2.0
PRODID:-//wp-events-plugin.com//7.2.3.1//EN
TZID:America/Denver
X-WR-TIMEZONE:America/Denver
BEGIN:VEVENT
UID:1822@krystal93.com
DTSTART;TZID=America/Denver;VALUE=DATE:20260209
DTEND;TZID=America/Denver;VALUE=DATE:20260211
DTSTAMP:20260203T031946Z
URL:https://krystal93.com/events/50-plus-winter-games/
SUMMARY:50 Plus Winter Games
DESCRIPTION:The 50 Plus Winter Games are coming up. Alpine events at Key
 stone on Sunday February 8\, uphill and ice events at Keystone on Monda
 y Feb 9 and Biathlon and Nordic events in Frisco on Tuesday Feb 10. P
 ut together a team\, go in costume\, and have a ball! Not into competi
 tion? Be a volunteer! All the information you need\, including fees\, comp
 etitor and volunteer registration\, Tuesday lunch and the awards ceremony 
 is at summit50plus.org.   
END:VEVENT
BEGIN:VTIMEZONE
TZID:America/Denver
X-LIC-LOCATION:America/Denver
BEGIN:STANDARD
DTSTART:20251102T010000
TZOFFSETFROM:-0600
TZOFFSETTO:-0700
TZNAME:MST
END:STANDARD
END:VTIMEZONE
END:VCALENDAR