BEGIN:VCALENDAR
VERSION:2.0
PRODID:-//wp-events-plugin.com//7.2.3.1//EN
TZID:America/Denver
X-WR-TIMEZONE:America/Denver
BEGIN:VEVENT
UID:1807@krystal93.com
DTSTART;TZID=America/Denver;VALUE=DATE:20260107
DTEND;TZID=America/Denver;VALUE=DATE:20260108
DTSTAMP:20260102T030533Z
URL:https://krystal93.com/events/50plus-games-sign-up-starting-today/
SUMMARY:50Plus Games - Sign Up Starting TODAY
DESCRIPTION:The 2026 50plus Winter Games are coming up on February 8\, 9
 \, and 10! Registration is just fifty dollars and includes entry into unli
 mited events\, the awards ceremony lunch\, and a one-year Summit 50+ mem
 bership. Summit 50 Plus members compete for thirty dollars. Registration a
 nd volunteer sign-ups open January 7th at summit50plus-dot-org.  
END:VEVENT
BEGIN:VTIMEZONE
TZID:America/Denver
X-LIC-LOCATION:America/Denver
BEGIN:STANDARD
DTSTART:20251102T010000
TZOFFSETFROM:-0600
TZOFFSETTO:-0700
TZNAME:MST
END:STANDARD
END:VTIMEZONE
END:VCALENDAR