BEGIN:VCALENDAR
VERSION:2.0
PRODID:-//wp-events-plugin.com//7.2.3.1//EN
TZID:America/Denver
X-WR-TIMEZONE:America/Denver
BEGIN:VEVENT
UID:1809@krystal93.com
DTSTART;TZID=America/Denver:20260121T180000
DTEND;TZID=America/Denver:20260121T200000
DTSTAMP:20260102T031850Z
URL:https://krystal93.com/events/50plus-winter-games-kickoff/
SUMMARY:50Plus Winter Games Kickoff
DESCRIPTION:&nbsp\;\n\nDon’t miss the official 50plus Winter Games kicko
 ff event at Outer Range Brewery from 6-8 on January 21.  Meet the race d
 irectors for each event\, explore the equipment on display\, and sign up f
 or practice groups to try new events for the first time. 
END:VEVENT
BEGIN:VTIMEZONE
TZID:America/Denver
X-LIC-LOCATION:America/Denver
BEGIN:STANDARD
DTSTART:20251102T010000
TZOFFSETFROM:-0600
TZOFFSETTO:-0700
TZNAME:MST
END:STANDARD
END:VTIMEZONE
END:VCALENDAR