BEGIN:VCALENDAR
VERSION:2.0
PRODID:-//wp-events-plugin.com//7.2.3.1//EN
TZID:America/Denver
X-WR-TIMEZONE:America/Denver
BEGIN:VEVENT
UID:893@krystal93.com
DTSTART;TZID=America/Denver:20240301T200000
DTEND;TZID=America/Denver:20240301T230000
DTSTAMP:20240301T034040Z
URL:https://krystal93.com/events/6-million-dollar-band/
SUMMARY:6 Million Dollar Band
DESCRIPTION:
CATEGORIES:10 Mile Music Hall
END:VEVENT
BEGIN:VTIMEZONE
TZID:America/Denver
X-LIC-LOCATION:America/Denver
BEGIN:STANDARD
DTSTART:20231105T010000
TZOFFSETFROM:-0600
TZOFFSETTO:-0700
TZNAME:MST
END:STANDARD
END:VTIMEZONE
END:VCALENDAR