BEGIN:VCALENDAR
VERSION:2.0
PRODID:-//wp-events-plugin.com//7.2.3.1//EN
TZID:America/Denver
X-WR-TIMEZONE:America/Denver
BEGIN:VEVENT
UID:1056@krystal93.com
DTSTART;TZID=America/Denver:20240712T100000
DTEND;TZID=America/Denver:20240714T170000
DTSTAMP:20240619T041410Z
URL:https://krystal93.com/events/6th-annual-silverthorne-art-festival/
SUMMARY:6th annual Silverthorne Art Festival
DESCRIPTION:Juried fine art festival brings top artists to beautiful Silver
 thorne\, Colorado as a part of the growing arts community. There will be s
 omething for everyone with 13 categories presented including painting\, wo
 od\, sculpture\, glass and more. Located next to the Silverthorne Recreati
 on Center on Rainbow Drive. Free admission and family friendly. Bring the 
 kids for faceprinting. 10 a.m.- 5 p.m.\, Friday and Saturday\; 10 a.m.-4 p
 .m.\, Sunday\n\nMore Info: https://www.MountainArtFestivals.com/festivals-
 calendar/6thsilverthorne-fine-art-festival-3c2py-mlats-66d9d
CATEGORIES:Family Event
LOCATION:Next to the Silverthorne Rec Center\, 430 Rainbow Drive\, Silverth
 orne\, CO \, 80498\, United States
X-APPLE-STRUCTURED-LOCATION;VALUE=URI;X-ADDRESS=430 Rainbow Drive\, Silvert
 horne\, CO \, 80498\, United States;X-APPLE-RADIUS=100;X-TITLE=Next to the
  Silverthorne Rec Center:geo:0,0
END:VEVENT
BEGIN:VTIMEZONE
TZID:America/Denver
X-LIC-LOCATION:America/Denver
BEGIN:DAYLIGHT
DTSTART:20240310T030000
TZOFFSETFROM:-0700
TZOFFSETTO:-0600
TZNAME:MDT
END:DAYLIGHT
END:VTIMEZONE
END:VCALENDAR