BEGIN:VCALENDAR
VERSION:2.0
PRODID:-//wp-events-plugin.com//7.2.3.1//EN
TZID:America/Denver
X-WR-TIMEZONE:America/Denver
BEGIN:VEVENT
UID:400@krystal93.com
DTSTART;TZID=America/Denver:20230119T160000
DTEND;TZID=America/Denver:20230119T180000
DTSTAMP:20230107T183621Z
URL:https://krystal93.com/events/9165/
SUMMARY:Thirsty Third Thursday
DESCRIPTION:Broken Compass and Krystal 93:\n\nThirsty Third Thursday\n\nWhe
 re: Mainstreet Breckenridge in La Cima Mall location\n\nWhat: Prizes\, fun
  games\, drink specials and more! Come start the party with Broken Compass
  and Krystal 93 with Phil Lindeman.\n\nTime: 4:00-6:00pm
CATEGORIES:Broken Compass
END:VEVENT
BEGIN:VTIMEZONE
TZID:America/Denver
X-LIC-LOCATION:America/Denver
BEGIN:STANDARD
DTSTART:20221106T010000
TZOFFSETFROM:-0600
TZOFFSETTO:-0700
TZNAME:MST
END:STANDARD
END:VTIMEZONE
END:VCALENDAR