BEGIN:VCALENDAR
VERSION:2.0
PRODID:-//wp-events-plugin.com//7.2.3.1//EN
TZID:America/Denver
X-WR-TIMEZONE:America/Denver
BEGIN:VEVENT
UID:557@krystal93.com
DTSTART;TZID=America/Denver;VALUE=DATE:20230513
DTEND;TZID=America/Denver;VALUE=DATE:20230515
DTSTAMP:20230430T230335Z
URL:https://krystal93.com/events/93-1-summit-country-kane-brown-giveaway/
SUMMARY:93.1 Summit Country - Kane Brown Giveaway
DESCRIPTION:Tune in to 93.1 Summit Country Saturday and Sunday\, May 13 and
  14 to win tickets to Kane Brown's June 10 concert at Fiddler's Green.\n\n
 It's a Weekend Takeover! Tune in to win!
END:VEVENT
BEGIN:VTIMEZONE
TZID:America/Denver
X-LIC-LOCATION:America/Denver
BEGIN:DAYLIGHT
DTSTART:20230312T030000
TZOFFSETFROM:-0700
TZOFFSETTO:-0600
TZNAME:MDT
END:DAYLIGHT
END:VTIMEZONE
END:VCALENDAR