BEGIN:VCALENDAR
VERSION:2.0
PRODID:-//wp-events-plugin.com//7.2.3.1//EN
TZID:America/Denver
X-WR-TIMEZONE:America/Denver
BEGIN:VEVENT
UID:1701@krystal93.com
DTSTART;TZID=America/Denver;VALUE=DATE:20250920
DTEND;TZID=America/Denver;VALUE=DATE:20250922
DTSTAMP:20250829T145202Z
URL:https://krystal93.com/events/a-basin-oktoberfest/
SUMMARY:A-Basin Oktoberfest
DESCRIPTION:Rounding out the season is Oktoberfest at Arapahoe Basin Sat
 urday and Sunday\, Sept. 20-21 with live music\, beer and Bavarian eats i
 n the village from noon to 4 p.m. When you're not chicken dancing on the p
 laza\, take a ride on Black Mountain Express. It's free!
END:VEVENT
BEGIN:VTIMEZONE
TZID:America/Denver
X-LIC-LOCATION:America/Denver
BEGIN:DAYLIGHT
DTSTART:20250309T030000
TZOFFSETFROM:-0700
TZOFFSETTO:-0600
TZNAME:MDT
END:DAYLIGHT
END:VTIMEZONE
END:VCALENDAR