BEGIN:VCALENDAR
VERSION:2.0
PRODID:-//wp-events-plugin.com//7.2.3.1//EN
TZID:America/Denver
X-WR-TIMEZONE:America/Denver
BEGIN:VEVENT
UID:1016@krystal93.com
DTSTART;TZID=America/Denver:20240605T170000
DTEND;TZID=America/Denver:20240605T190000
DTSTAMP:20240531T232315Z
URL:https://krystal93.com/events/angry-james-brewery-jeff-kingery/
SUMMARY:Angry James Brewery - Jeff Kingery
DESCRIPTION:Listen to live music from 5:00-7:00pm every Wednesday. Angry Ja
 mes Brewery in Silverthorne is a proud sponsor of Music at the Summit\, Kr
 ystal Media's initiative to promote live\, local musicians in Summit Count
 y.\n\nWHO: Jeff Kingery
END:VEVENT
BEGIN:VTIMEZONE
TZID:America/Denver
X-LIC-LOCATION:America/Denver
BEGIN:DAYLIGHT
DTSTART:20240310T030000
TZOFFSETFROM:-0700
TZOFFSETTO:-0600
TZNAME:MDT
END:DAYLIGHT
END:VTIMEZONE
END:VCALENDAR