BEGIN:VCALENDAR
VERSION:2.0
PRODID:-//wp-events-plugin.com//7.2.3.1//EN
TZID:America/Denver
X-WR-TIMEZONE:America/Denver
BEGIN:VEVENT
UID:857@krystal93.com
DTSTART;TZID=America/Denver:20240228T170000
DTEND;TZID=America/Denver:20240228T190000
DTSTAMP:20240201T152944Z
URL:https://krystal93.com/events/angry-james-chris-bauer/
SUMMARY:Angry James - Chris Bauer
DESCRIPTION:Chris Bauer\n\nFebruary 28\, 2024\nAngry James Brewery\, 421 Ad
 ams Ave\, Silverthorne\, CO 80498\, USA\n\n\n\nJoin us on the patio for li
 ve\, local music!!\n\n\n
END:VEVENT
BEGIN:VTIMEZONE
TZID:America/Denver
X-LIC-LOCATION:America/Denver
BEGIN:STANDARD
DTSTART:20231105T010000
TZOFFSETFROM:-0600
TZOFFSETTO:-0700
TZNAME:MST
END:STANDARD
END:VTIMEZONE
END:VCALENDAR