BEGIN:VCALENDAR
VERSION:2.0
PRODID:-//wp-events-plugin.com//7.2.3.1//EN
TZID:America/Denver
X-WR-TIMEZONE:America/Denver
BEGIN:VEVENT
UID:971@krystal93.com
DTSTART;TZID=America/Denver:20240505T150000
DTEND;TZID=America/Denver:20240505T170000
DTSTAMP:20240501T180044Z
URL:https://krystal93.com/events/angry-james-cinco-de-mayo-fiesta/
SUMMARY:Angry James Cinco De Mayo Fiesta
DESCRIPTION:Angry James Brewery in Silverthorne invites you to their first-
 ever Cinco de Mayo Fiesta! The party is this Sunday\, May 5\, and includes
  live music with Chris Bauer from 3 to 5. Plus\, Angry James Mexican Lager
  will be on tap.  Get advance tickets for the Mountain Melt Taco Bar by t
 his Friday at Angry James in Silverthorne. Krystal Media Supports the Summ
 it. 
END:VEVENT
BEGIN:VTIMEZONE
TZID:America/Denver
X-LIC-LOCATION:America/Denver
BEGIN:DAYLIGHT
DTSTART:20240310T030000
TZOFFSETFROM:-0700
TZOFFSETTO:-0600
TZNAME:MDT
END:DAYLIGHT
END:VTIMEZONE
END:VCALENDAR