BEGIN:VCALENDAR
VERSION:2.0
PRODID:-//wp-events-plugin.com//7.2.3.1//EN
TZID:America/Denver
X-WR-TIMEZONE:America/Denver
BEGIN:VEVENT
UID:990@krystal93.com
DTSTART;TZID=America/Denver:20240522T170000
DTEND;TZID=America/Denver:20240522T190000
DTSTAMP:20240501T182913Z
URL:https://krystal93.com/events/angry-james-live-music-3/
SUMMARY:Angry James Live Music
DESCRIPTION:Check out live music at Angry James Brewing in Silverthorne thi
 s afternoon. Jon Ross t will be playing from 5-7pm. Angry James is a spons
 or of Music at the Summit—Krystal Media’s initiative to promote live l
 ocal music in Summit County.
END:VEVENT
BEGIN:VTIMEZONE
TZID:America/Denver
X-LIC-LOCATION:America/Denver
BEGIN:DAYLIGHT
DTSTART:20240310T030000
TZOFFSETFROM:-0700
TZOFFSETTO:-0600
TZNAME:MDT
END:DAYLIGHT
END:VTIMEZONE
END:VCALENDAR