BEGIN:VCALENDAR
VERSION:2.0
PRODID:-//wp-events-plugin.com//7.2.3.1//EN
TZID:America/Denver
X-WR-TIMEZONE:America/Denver
BEGIN:VEVENT
UID:1307@krystal93.com
DTSTART;TZID=America/Denver:20241215T140000
DTEND;TZID=America/Denver:20241215T190000
DTSTAMP:20241201T211201Z
URL:https://krystal93.com/events/art-spot-holiday-market/
SUMMARY:Art Spot Holiday Market
DESCRIPTION:Art Spot Holiday Market – FIND THE PERFECT HOLIDAY GIFT AT TH
 E ART SPOT’S HOLIDAY MAKER’S MARKET! SHOP THE MAKER’S MARKET AT THE 
 ART SPOT Silverthorne Makerspace  ON SUNDAY\, DECEMBER 15 FROM 2 TO 7 P.M
 . FOR A HOLIDAY THEMED SHOPPING EVENT FEATURING ARTISTS THAT CREATE AT THE
  ART SPOT. ENJOY REFRESHMENTS AND LIVE MUSIC AS YOU SHOP FOR HAND-CRAFTED 
 HOLIDAY GIFTS. LEARN MORE AT ARTSPOTSILVERTHORNE.ORG.  
CATEGORIES:Town of Silverthorne
END:VEVENT
BEGIN:VTIMEZONE
TZID:America/Denver
X-LIC-LOCATION:America/Denver
BEGIN:STANDARD
DTSTART:20241103T010000
TZOFFSETFROM:-0600
TZOFFSETTO:-0700
TZNAME:MST
END:STANDARD
END:VTIMEZONE
END:VCALENDAR