BEGIN:VCALENDAR
VERSION:2.0
PRODID:-//wp-events-plugin.com//7.2.3.1//EN
TZID:America/Denver
X-WR-TIMEZONE:America/Denver
BEGIN:VEVENT
UID:1197@krystal93.com
DTSTART;TZID=America/Denver:20241026T100000
DTEND;TZID=America/Denver:20241026T120000
DTSTAMP:20240930T212245Z
URL:https://krystal93.com/events/art-spot-teen-art/
SUMMARY:Art Spot Teen Art
DESCRIPTION:SATURDAY\, OCTOBER 26\n10 am-12 pm\nArt Spot Teen Art\nSILVERTH
 ORNE\nJoin Building Hope &amp\; Art Spot for a fun\nworkshop\, this is a g
 reat opportunity to\ncreate your works of art and practice\nsome abilities
 . Come with us and enjoy\nthis relaxing and fun activity.\nGo to buildingh
 opesummit.org for more information.
CATEGORIES:Building Hope Summit County
END:VEVENT
BEGIN:VTIMEZONE
TZID:America/Denver
X-LIC-LOCATION:America/Denver
BEGIN:DAYLIGHT
DTSTART:20240310T030000
TZOFFSETFROM:-0700
TZOFFSETTO:-0600
TZNAME:MDT
END:DAYLIGHT
END:VTIMEZONE
END:VCALENDAR