BEGIN:VCALENDAR
VERSION:2.0
PRODID:-//wp-events-plugin.com//7.2.3.1//EN
TZID:America/Denver
X-WR-TIMEZONE:America/Denver
BEGIN:VEVENT
UID:619@krystal93.com
DTSTART;TZID=America/Denver:20230621T173000
DTEND;TZID=America/Denver:20230621T193000
DTSTAMP:20230601T021125Z
URL:https://krystal93.com/events/art-with-frosted-flamingo-2/
SUMMARY:Art with Frosted Flamingo
DESCRIPTION:ART WITH FROSTED FLAMINGO \n\nLearn how to forge metal and leat
 her to create your own jewelry in this art workshop led by Becca from Fros
 ted Flamingo! Participation limited to ages 16+. Facilitated in Spanish. \
 n\nTime: 5:30-7:30pm \n\nLocation: Silverthorne \n\nGo to Building Hope Su
 mmit County for more information.  
CATEGORIES:Building Hope Summit County
END:VEVENT
BEGIN:VTIMEZONE
TZID:America/Denver
X-LIC-LOCATION:America/Denver
BEGIN:DAYLIGHT
DTSTART:20230312T030000
TZOFFSETFROM:-0700
TZOFFSETTO:-0600
TZNAME:MDT
END:DAYLIGHT
END:VTIMEZONE
END:VCALENDAR