BEGIN:VCALENDAR
VERSION:2.0
PRODID:-//wp-events-plugin.com//7.2.3.1//EN
TZID:America/Denver
X-WR-TIMEZONE:America/Denver
BEGIN:VEVENT
UID:681@krystal93.com
DTSTART;TZID=America/Denver:20230802T173000
DTEND;TZID=America/Denver:20230802T193000
DTSTAMP:20230801T011245Z
URL:https://krystal93.com/events/art-with-frosted-flamingo-3/
SUMMARY:Art with Frosted Flamingo
DESCRIPTION:\n\n\n\n\n\n\n\n\n\nART WITH FROSTED FLAMINGO - LINOLEUM PRINTS
 \n\nCome down to the Art Spot Makerspace in Silverthorne for a guided art 
 class led by Becca from Frosted Flamingo! All ages are welcome - children 
 under age 15 must be accompanied by an adult. Facilitated in Spanish and E
 nglish.\n\nTime: 5:30-7:30pm Location: Silverthorne\n\n\n\n\n\n\n\n\n\n\nG
 o to Building Hope Summit County for more information.  
CATEGORIES:Building Hope Summit County
END:VEVENT
BEGIN:VTIMEZONE
TZID:America/Denver
X-LIC-LOCATION:America/Denver
BEGIN:DAYLIGHT
DTSTART:20230312T030000
TZOFFSETFROM:-0700
TZOFFSETTO:-0600
TZNAME:MDT
END:DAYLIGHT
END:VTIMEZONE
END:VCALENDAR