BEGIN:VCALENDAR
VERSION:2.0
PRODID:-//wp-events-plugin.com//7.2.3.1//EN
TZID:America/Denver
X-WR-TIMEZONE:America/Denver
BEGIN:VEVENT
UID:434@krystal93.com
DTSTART;TZID=America/Denver:20230209T153000
DTEND;TZID=America/Denver:20230209T170000
DTSTAMP:20230131T191320Z
URL:https://krystal93.com/events/art-with-ms-fischer-12-18-4/
SUMMARY:Art with Ms. Fischer (12-18)
DESCRIPTION:ART WITH MS. FISHER AGES 12-18 \n\nJoin the HYPE with Ms. Fisch
 er to learn how to create your own projects! Participation limited to Summ
 it County residents ages 12-18. Event Facilitated in English. \n\nTime: 3:
 30-5pm Location: Breckenridge.   Go to https://buildinghopesummit.org/ fo
 r more info.\n\n&nbsp\;
CATEGORIES:Building Hope Summit County
END:VEVENT
BEGIN:VTIMEZONE
TZID:America/Denver
X-LIC-LOCATION:America/Denver
BEGIN:STANDARD
DTSTART:20221106T010000
TZOFFSETFROM:-0600
TZOFFSETTO:-0700
TZNAME:MST
END:STANDARD
END:VTIMEZONE
END:VCALENDAR