BEGIN:VCALENDAR
VERSION:2.0
PRODID:-//wp-events-plugin.com//7.2.3.1//EN
TZID:America/Denver
X-WR-TIMEZONE:America/Denver
BEGIN:VEVENT
UID:435@krystal93.com
DTSTART;TZID=America/Denver:20230209T180000
DTEND;TZID=America/Denver:20230209T203000
DTSTAMP:20230131T192510Z
URL:https://krystal93.com/events/art-with-ms-fischer-12-18-5/
SUMMARY:Clay Hand Building
DESCRIPTION: CLAY HAND BUILDING Clay hand building is a method of slab con
 struction and slab manipulation\, pinching and coiling to create decorativ
 e and functional pieces such as cylinder vessels\, slab boxes\, tumblers\,
  cups\, and mugs. We will explore surface decoration and texture technique
 s. Open to Ages 17+. Event Facilitated in English. \n\nFeb 9 Time: 6-8:30p
 m Location: Breckenridge     Go to https://buildinghopesummit.org/ for m
 ore info.\n\n&nbsp\;
CATEGORIES:Building Hope Summit County
END:VEVENT
BEGIN:VTIMEZONE
TZID:America/Denver
X-LIC-LOCATION:America/Denver
BEGIN:STANDARD
DTSTART:20221106T010000
TZOFFSETFROM:-0600
TZOFFSETTO:-0700
TZNAME:MST
END:STANDARD
END:VTIMEZONE
END:VCALENDAR