BEGIN:VCALENDAR
VERSION:2.0
PRODID:-//wp-events-plugin.com//7.2.3.1//EN
TZID:America/Denver
X-WR-TIMEZONE:America/Denver
BEGIN:VEVENT
UID:384@krystal93.com
DTSTART;TZID=America/Denver:20230112T150000
DTEND;TZID=America/Denver:20230112T170000
DTSTAMP:20230102T035704Z
URL:https://krystal93.com/events/art-with-ms-fisher-12-18-6/
SUMMARY:Art with Ms. Fisher (12-18)
DESCRIPTION:1/12 ART WITH MS. FISHER AGES 12-18  \n\nJoin the HYPE with Ms
 . Fischer to learn how to create your own projects! Participation limited 
 to Summit County residents ages 12-18. Event Facilitated in English.  \n\
 nTime: 3-5pm Location: Breckenridge  
CATEGORIES:Building Hope Summit County
END:VEVENT
BEGIN:VTIMEZONE
TZID:America/Denver
X-LIC-LOCATION:America/Denver
BEGIN:STANDARD
DTSTART:20221106T010000
TZOFFSETFROM:-0600
TZOFFSETTO:-0700
TZNAME:MST
END:STANDARD
END:VTIMEZONE
END:VCALENDAR