BEGIN:VCALENDAR
VERSION:2.0
PRODID:-//wp-events-plugin.com//7.2.3.1//EN
TZID:America/Denver
X-WR-TIMEZONE:America/Denver
BEGIN:VEVENT
UID:480@krystal93.com
DTSTART;TZID=America/Denver:20230302T153000
DTEND;TZID=America/Denver:20230302T170000
DTSTAMP:20230228T170648Z
URL:https://krystal93.com/events/art-with-ms-fisher-12-18-8/
SUMMARY:Art with Ms. Fisher (12-18)
DESCRIPTION:ART WITH MS. FISHER AGES 12-18   \n\nJoin the HYPE with Ms. Fi
 scher to learn how to create your own projects! Participation limited to S
 ummit County residents ages 12-18. Event Facilitated in English. www.build
 inghopesummit.org/events  \n\nTime: 3:30-5pm Location: Breckenridge 
CATEGORIES:Building Hope Summit County
END:VEVENT
BEGIN:VTIMEZONE
TZID:America/Denver
X-LIC-LOCATION:America/Denver
BEGIN:STANDARD
DTSTART:20221106T010000
TZOFFSETFROM:-0600
TZOFFSETTO:-0700
TZNAME:MST
END:STANDARD
END:VTIMEZONE
END:VCALENDAR