BEGIN:VCALENDAR
VERSION:2.0
PRODID:-//wp-events-plugin.com//7.2.3.1//EN
TZID:America/Denver
X-WR-TIMEZONE:America/Denver
BEGIN:VEVENT
UID:749@krystal93.com
DTSTART;TZID=America/Denver:20231102T150000
DTEND;TZID=America/Denver:20231102T170000
DTSTAMP:20231101T003458Z
URL:https://krystal93.com/events/art-with-ms-paige-12-18/
SUMMARY:Art with Ms. Paige (12-18)
DESCRIPTION:Join the HYPE with Ms. Paige at Summit High School to learn how
  to create your own art projects. You must be 12-18 to participate. Go to 
 buildinghopesummit.org for more information.\n\nTime: 3:00-5:00PM\nLocatio
 n: Breckenridge
CATEGORIES:Building Hope Summit County
END:VEVENT
BEGIN:VTIMEZONE
TZID:America/Denver
X-LIC-LOCATION:America/Denver
BEGIN:DAYLIGHT
DTSTART:20230312T030000
TZOFFSETFROM:-0700
TZOFFSETTO:-0600
TZNAME:MDT
END:DAYLIGHT
END:VTIMEZONE
END:VCALENDAR