BEGIN:VCALENDAR
VERSION:2.0
PRODID:-//wp-events-plugin.com//7.2.3.1//EN
TZID:America/Denver
X-WR-TIMEZONE:America/Denver
BEGIN:VEVENT
UID:729@krystal93.com
DTSTART;TZID=America/Denver:20231005T150000
DTEND;TZID=America/Denver:20231005T170000
DTSTAMP:20231002T145912Z
URL:https://krystal93.com/events/art-with-ms-paige-2/
SUMMARY:Art with Ms. Paige
DESCRIPTION:Building Hope Summit County\nWhat: Art with Ms. Paige\nWhen: Th
 ursday October 5th from 3pm to 5pm.\nWhere: Breckenridge  \n\nDetails: J
 oin the HYPE with Ms. Paige at Summit High School to learn how to create y
 our own art projects! Participation is limited to ages 12-18. Facilitated 
 in English.  Go to buildinghopesummit.org for more details. 
CATEGORIES:Building Hope Summit County
END:VEVENT
BEGIN:VTIMEZONE
TZID:America/Denver
X-LIC-LOCATION:America/Denver
BEGIN:DAYLIGHT
DTSTART:20230312T030000
TZOFFSETFROM:-0700
TZOFFSETTO:-0600
TZNAME:MDT
END:DAYLIGHT
END:VTIMEZONE
END:VCALENDAR