BEGIN:VCALENDAR
VERSION:2.0
PRODID:-//wp-events-plugin.com//7.2.3.1//EN
TZID:America/Denver
X-WR-TIMEZONE:America/Denver
BEGIN:VEVENT
UID:768@krystal93.com
DTSTART;TZID=America/Denver:20231214T150000
DTEND;TZID=America/Denver:20231214T170000
DTSTAMP:20231201T042329Z
URL:https://krystal93.com/events/art-with-ms-paige-3/
SUMMARY:Art with Ms. Paige
DESCRIPTION:\n\n\n\nJoin the HYPE with Ms. Paige at Summit High School to l
 earn how to create your own art projects! Participation limited to ages 12
 -18. Facilitated in English\n\nTime: 3:00-5:00pm\n\nLocation: Breckenridge
 \n\n\n\n\nGo to Building Hope Summit County for more information.
CATEGORIES:Building Hope Summit County
END:VEVENT
BEGIN:VTIMEZONE
TZID:America/Denver
X-LIC-LOCATION:America/Denver
BEGIN:STANDARD
DTSTART:20231105T010000
TZOFFSETFROM:-0600
TZOFFSETTO:-0700
TZNAME:MST
END:STANDARD
END:VTIMEZONE
END:VCALENDAR