BEGIN:VCALENDAR
VERSION:2.0
PRODID:-//wp-events-plugin.com//7.2.3.1//EN
TZID:America/Denver
X-WR-TIMEZONE:America/Denver
BEGIN:VEVENT
UID:703@krystal93.com
DTSTART;TZID=America/Denver:20230921T163000
DTEND;TZID=America/Denver:20230921T174000
DTSTAMP:20230831T040127Z
URL:https://krystal93.com/events/axe-throwing-12-18-3/
SUMMARY:Axe Throwing (12-18)
DESCRIPTION:\n\n\n\n\n\n\n\n\n\nAXE THROWING AGES 12-18\n\nCome join us at 
 Thrashin Axes and learn about one of the most fun and fastest growing spor
 ts in the world! Participation limited to ages 12-18. Facilitated in Engli
 sh.\n\nTime: 4:30-5:40pm\n\nLocation: Frisco\n\n\n\n\n\n\n\n\n\n\nGo to Bu
 ilding Hope Summit County for more information.  
CATEGORIES:Building Hope Summit County
END:VEVENT
BEGIN:VTIMEZONE
TZID:America/Denver
X-LIC-LOCATION:America/Denver
BEGIN:DAYLIGHT
DTSTART:20230312T030000
TZOFFSETFROM:-0700
TZOFFSETTO:-0600
TZNAME:MDT
END:DAYLIGHT
END:VTIMEZONE
END:VCALENDAR