BEGIN:VCALENDAR
VERSION:2.0
PRODID:-//wp-events-plugin.com//7.2.3.1//EN
TZID:America/Denver
X-WR-TIMEZONE:America/Denver
BEGIN:VEVENT
UID:517@krystal93.com
DTSTART;TZID=America/Denver:20230406T163000
DTEND;TZID=America/Denver:20230406T174000
DTSTAMP:20230330T153519Z
URL:https://krystal93.com/events/axe-throwing-12-18/
SUMMARY:Axe Throwing (12-18)
DESCRIPTION:AXE THROWING AGES 12-18 \n\nCome join us at the new Thrashin A
 xes and learn about one of the most fun and fastest growing sports in the 
 world! Participation limited to ages 12-18. Facilitated in English. \n\nT
 ime: 4:30-5:40pm Location: Frisco \n\nwww.buildinghopesummit.org/events 
 \n\n&nbsp\;
CATEGORIES:Building Hope Summit County
END:VEVENT
BEGIN:VTIMEZONE
TZID:America/Denver
X-LIC-LOCATION:America/Denver
BEGIN:DAYLIGHT
DTSTART:20230312T030000
TZOFFSETFROM:-0700
TZOFFSETTO:-0600
TZNAME:MDT
END:DAYLIGHT
END:VTIMEZONE
END:VCALENDAR