BEGIN:VCALENDAR
VERSION:2.0
PRODID:-//wp-events-plugin.com//7.2.3.1//EN
TZID:America/Denver
X-WR-TIMEZONE:America/Denver
BEGIN:VEVENT
UID:53@krystal93.com
DTSTART;TZID=America/Denver:20220203T163000
DTEND;TZID=America/Denver:20220203T173000
DTSTAMP:20220128T034408Z
URL:https://krystal93.com/events/axe-throwing/
SUMMARY:Axe Throwing
DESCRIPTION:This event is for teens ages 12 to 18. Learn about one of the m
 ost fun and fastest-growing sports globally! We start every session with s
 afety\, followed by throwing techniques\, and we work with each person ind
 ividually to help you perfect your throws\, we practice and will play some
  games. Event Facilitated in English\, and is from 4:30-5:30pm in Breckenr
 idge. Go to buildinghopesummit.org for more information.
CATEGORIES:Building Hope Summit County
END:VEVENT
BEGIN:VTIMEZONE
TZID:America/Denver
X-LIC-LOCATION:America/Denver
BEGIN:STANDARD
DTSTART:20211107T010000
TZOFFSETFROM:-0600
TZOFFSETTO:-0700
TZNAME:MST
END:STANDARD
END:VTIMEZONE
END:VCALENDAR