BEGIN:VCALENDAR
VERSION:2.0
PRODID:-//wp-events-plugin.com//7.2.3.1//EN
TZID:America/Denver
X-WR-TIMEZONE:America/Denver
BEGIN:VEVENT
UID:1316@krystal93.com
DTSTART;TZID=America/Denver:20250107T060000
DTEND;TZID=America/Denver:20250107T120000
DTSTAMP:20250102T150053Z
URL:https://krystal93.com/events/backcountry-ski-with-a-ranger/
SUMMARY:Backcountry Ski With A Ranger
DESCRIPTION:Friends of the Dillon Ranger District invite you to enjoy Backc
 ountry Ski with a Ranger. The second one of the season is Tuesday January 
 7 at Peru Creek and focuses on dry snow and avalanche awareness. This is y
 our chance to enjoy some backcountry education while enjoying the outdoors
 . For more information go to FDRD.org. Space is limited so sign up early!
  
END:VEVENT
BEGIN:VTIMEZONE
TZID:America/Denver
X-LIC-LOCATION:America/Denver
BEGIN:STANDARD
DTSTART:20241103T010000
TZOFFSETFROM:-0600
TZOFFSETTO:-0700
TZNAME:MST
END:STANDARD
END:VTIMEZONE
END:VCALENDAR