BEGIN:VCALENDAR
VERSION:2.0
PRODID:-//wp-events-plugin.com//7.2.3.1//EN
TZID:America/Denver
X-WR-TIMEZONE:America/Denver
BEGIN:VEVENT
UID:410@krystal93.com
DTSTART;TZID=America/Denver:20230128T210000
DTEND;TZID=America/Denver:20230128T230000
DTSTAMP:20230107T183450Z
URL:https://krystal93.com/events/bakers-brewery-chris-bauer-trio/
SUMMARY:Bakers Brewery- Chris Bauer Trio
DESCRIPTION:BAKERS BREWERY   \n\nWhat: Chris Bauer Trio - 9pm\; Summit’
 s Favorite Rockin' Funkin' Blues is back for the Official BR4R After Party
 !!! \n\nWhen: Saturday January 28\, from 9:00-11:00pm \n\nDetails: Baker
 s Brewery in Silverthorne supports Music at the Summit – Krystal 93’s 
 initiative to promote local musicians. Brought to you by Mountain Comfort 
 Furnishings. 
CATEGORIES:Bakers Brewery Events
END:VEVENT
BEGIN:VTIMEZONE
TZID:America/Denver
X-LIC-LOCATION:America/Denver
BEGIN:STANDARD
DTSTART:20221106T010000
TZOFFSETFROM:-0600
TZOFFSETTO:-0700
TZNAME:MST
END:STANDARD
END:VTIMEZONE
END:VCALENDAR