BEGIN:VCALENDAR
VERSION:2.0
PRODID:-//wp-events-plugin.com//7.2.3.1//EN
TZID:America/Denver
X-WR-TIMEZONE:America/Denver
BEGIN:VEVENT
UID:500@krystal93.com
DTSTART;TZID=America/Denver:20230317T190000
DTEND;TZID=America/Denver:20230317T210000
DTSTAMP:20230317T210126Z
URL:https://krystal93.com/events/bakers-brewery-horizon-line-2/
SUMMARY:Bakers Brewery- Horizon Line
DESCRIPTION:Come to Bakers Brewery where the music starts at 7:00pm with Ho
 rizon Line. They play Rocky Mountain Rock-n-Roll Originals &amp\; Covers 
 of Your Favorite Jams.\n\nBakers Brewery is a proud supporter of Music at 
 the Summit\, Krystal 93's initiative to promote live\, local musicians.
CATEGORIES:Bakers Brewery Events
END:VEVENT
BEGIN:VTIMEZONE
TZID:America/Denver
X-LIC-LOCATION:America/Denver
BEGIN:DAYLIGHT
DTSTART:20230312T030000
TZOFFSETFROM:-0700
TZOFFSETTO:-0600
TZNAME:MDT
END:DAYLIGHT
END:VTIMEZONE
END:VCALENDAR