BEGIN:VCALENDAR
VERSION:2.0
PRODID:-//wp-events-plugin.com//7.2.3.1//EN
TZID:America/Denver
X-WR-TIMEZONE:America/Denver
BEGIN:VEVENT
UID:496@krystal93.com
DTSTART;TZID=America/Denver:20230318T200000
DTEND;TZID=America/Denver:20230318T220000
DTSTAMP:20230316T034240Z
URL:https://krystal93.com/events/bakers-brewery-horizon-line-3/
SUMMARY:Bakers Brewery- Sunday Bankers
DESCRIPTION:Come to Bakers Brewery where the music starts at 8:00pm with th
 e Sunday Bankers – Local Rocky Mountain High Genre acoustic originals &a
 mp\; covers of classic rock\, folk &amp\; jams.\n\nBakers Brewery is a pro
 ud supporter of Music at the Summit\, Krystal 93's initiative to promote l
 ive\, local musicians.
CATEGORIES:Bakers Brewery Events
END:VEVENT
BEGIN:VTIMEZONE
TZID:America/Denver
X-LIC-LOCATION:America/Denver
BEGIN:DAYLIGHT
DTSTART:20230312T030000
TZOFFSETFROM:-0700
TZOFFSETTO:-0600
TZNAME:MDT
END:DAYLIGHT
END:VTIMEZONE
END:VCALENDAR