BEGIN:VCALENDAR
VERSION:2.0
PRODID:-//wp-events-plugin.com//7.2.3.1//EN
TZID:America/Denver
X-WR-TIMEZONE:America/Denver
BEGIN:VEVENT
UID:430@krystal93.com
DTSTART;TZID=America/Denver:20230211T200000
DTEND;TZID=America/Denver:20230211T220000
DTSTAMP:20230127T032913Z
URL:https://krystal93.com/events/bakers-brewery-horizon-line/
SUMMARY:Bakers Brewery - Horizon Line
DESCRIPTION:Come to Bakers Brewery to hear live music with Horizon Line wit
 h Rocky Mountain rock-n-roll with originals and covers from  8:00-10:00pm
 . Bakers Brewery is a proud partner in Music at the Summit\, supporting li
 ve local music with Krystal 93.\n\n&nbsp\;
CATEGORIES:Bakers Brewery Events
END:VEVENT
BEGIN:VTIMEZONE
TZID:America/Denver
X-LIC-LOCATION:America/Denver
BEGIN:STANDARD
DTSTART:20221106T010000
TZOFFSETFROM:-0600
TZOFFSETTO:-0700
TZNAME:MST
END:STANDARD
END:VTIMEZONE
END:VCALENDAR