BEGIN:VCALENDAR
VERSION:2.0
PRODID:-//wp-events-plugin.com//7.2.3.1//EN
TZID:America/Denver
X-WR-TIMEZONE:America/Denver
BEGIN:VEVENT
UID:468@krystal93.com
DTSTART;TZID=America/Denver:20230309T190000
DTEND;TZID=America/Denver:20230309T210000
DTSTAMP:20230222T184930Z
URL:https://krystal93.com/events/bakers-brewery-levi-and-loren-2/
SUMMARY:Bakers Brewery- Levi and Loren
DESCRIPTION:Join Bakers Brewery for live music on Thursday\, March 9 from
  7:00-9pm for Levi and Loren and their terrific original mountain music mi
 xed with classic rock and jams.  Bakers Brewery is a proud partner in Mus
 ic at the Summit\, Krystal Media's initiative supporting live\, local musi
 c and talent.\n\n&nbsp\;\n\n&nbsp\;
CATEGORIES:Bakers Brewery Events
END:VEVENT
BEGIN:VTIMEZONE
TZID:America/Denver
X-LIC-LOCATION:America/Denver
BEGIN:STANDARD
DTSTART:20221106T010000
TZOFFSETFROM:-0600
TZOFFSETTO:-0700
TZNAME:MST
END:STANDARD
END:VTIMEZONE
END:VCALENDAR