BEGIN:VCALENDAR
VERSION:2.0
PRODID:-//wp-events-plugin.com//7.2.3.1//EN
TZID:America/Denver
X-WR-TIMEZONE:America/Denver
BEGIN:VEVENT
UID:429@krystal93.com
DTSTART;TZID=America/Denver:20230209T190000
DTEND;TZID=America/Denver:20230209T210000
DTSTAMP:20230127T032752Z
URL:https://krystal93.com/events/bakers-brewery-levi-and-loren/
SUMMARY:Bakers Brewery - Levi and Loren
DESCRIPTION:Come to Bakers Brewery to hear live music with Levi and Loren w
 ith original mountain music mixed with classic rock and jams from 7:00-9:0
 0pm. Bakers Brewery is a proud partner in Music at the Summit\, supporting
  live local music with Krystal 93.\n\n&nbsp\;\n\n&nbsp\;
CATEGORIES:Bakers Brewery Events
END:VEVENT
BEGIN:VTIMEZONE
TZID:America/Denver
X-LIC-LOCATION:America/Denver
BEGIN:STANDARD
DTSTART:20221106T010000
TZOFFSETFROM:-0600
TZOFFSETTO:-0700
TZNAME:MST
END:STANDARD
END:VTIMEZONE
END:VCALENDAR