BEGIN:VCALENDAR
VERSION:2.0
PRODID:-//wp-events-plugin.com//7.2.3.1//EN
TZID:America/Denver
X-WR-TIMEZONE:America/Denver
BEGIN:VEVENT
UID:465@krystal93.com
DTSTART;TZID=America/Denver:20230302T190000
DTEND;TZID=America/Denver:20230302T210000
DTSTAMP:20230222T184347Z
URL:https://krystal93.com/events/bakers-brewery-live-music-6/
SUMMARY:Bakers Brewery LIVE MUSIC
DESCRIPTION:Join Bakers Brewery for live music on Thursday\, March 2 from
  7-9pm for the music of Mud Season. They'll play classic rock and pop song
 s to kick off Bakers' 8th anniversary party! Bakers Brewery is a proud par
 tner in Music at the Summit\, Krystal Media's initiative supporting live\,
  local music and talent.\n\n&nbsp\;
CATEGORIES:Bakers Brewery Events
END:VEVENT
BEGIN:VTIMEZONE
TZID:America/Denver
X-LIC-LOCATION:America/Denver
BEGIN:STANDARD
DTSTART:20221106T010000
TZOFFSETFROM:-0600
TZOFFSETTO:-0700
TZNAME:MST
END:STANDARD
END:VTIMEZONE
END:VCALENDAR