BEGIN:VCALENDAR
VERSION:2.0
PRODID:-//wp-events-plugin.com//7.2.3.1//EN
TZID:America/Denver
X-WR-TIMEZONE:America/Denver
BEGIN:VEVENT
UID:525@krystal93.com
DTSTART;TZID=America/Denver:20230401T200000
DTEND;TZID=America/Denver:20230401T230000
DTSTAMP:20230330T154805Z
URL:https://krystal93.com/events/bakers-brewery-live-music-7/
SUMMARY:Bakers Brewery - Live Music
DESCRIPTION:BAKERS BREWERY IN SILVERTHORNE (MATS) \n\nWhat: Live music wit
 h High Hobos... Chris\, Mike and Taco of Hobo village with Levi of High Fi
 ve with Rock and Jams \n\nWhen: Saturday April 1\, from 8-11PM  \n\nDeta
 ils: Bakers Brewery supports Music at the Summit – our initiative to pro
 mote live local music – brought to you by Mountain Comfort Furnishings.
   
CATEGORIES:Bakers Brewery Events
END:VEVENT
BEGIN:VTIMEZONE
TZID:America/Denver
X-LIC-LOCATION:America/Denver
BEGIN:DAYLIGHT
DTSTART:20230312T030000
TZOFFSETFROM:-0700
TZOFFSETTO:-0600
TZNAME:MDT
END:DAYLIGHT
END:VTIMEZONE
END:VCALENDAR