BEGIN:VCALENDAR
VERSION:2.0
PRODID:-//wp-events-plugin.com//7.2.3.1//EN
TZID:America/Denver
X-WR-TIMEZONE:America/Denver
BEGIN:VEVENT
UID:528@krystal93.com
DTSTART;TZID=America/Denver:20230406T190000
DTEND;TZID=America/Denver:20230406T213000
DTSTAMP:20230330T155451Z
URL:https://krystal93.com/events/bakers-brewery-live-music-8/
SUMMARY:Bakers Brewery - Live Music
DESCRIPTION:BAKERS BREWERY IN SILVERTHORNE (MATS) \n\nWhat: Live music wit
 h Shanaynay Duo - Jah-nay and Shane play classic R&amp\;B and soul with ke
 ys\, guitar and harmony\n\nWhen: Thursday\, April 6  from 7:00-9:30pm\n\n
 Details: Bakers Brewery supports Music at the Summit – our initiative to
  promote live local music – brought to you by Mountain Comfort Furnishin
 gs.  \n\n&nbsp\;\n\n&nbsp\;
CATEGORIES:Bakers Brewery Events
END:VEVENT
BEGIN:VTIMEZONE
TZID:America/Denver
X-LIC-LOCATION:America/Denver
BEGIN:DAYLIGHT
DTSTART:20230312T030000
TZOFFSETFROM:-0700
TZOFFSETTO:-0600
TZNAME:MDT
END:DAYLIGHT
END:VTIMEZONE
END:VCALENDAR