BEGIN:VCALENDAR
VERSION:2.0
PRODID:-//wp-events-plugin.com//7.2.3.1//EN
TZID:America/Denver
X-WR-TIMEZONE:America/Denver
BEGIN:VEVENT
UID:529@krystal93.com
DTSTART;TZID=America/Denver:20230408T200000
DTEND;TZID=America/Denver:20230408T230000
DTSTAMP:20230330T155656Z
URL:https://krystal93.com/events/bakers-brewery-live-music-9/
SUMMARY:Bakers Brewery - Live Music
DESCRIPTION:BAKERS BREWERY IN SILVERTHORNE  \n\nWhat: Live music with Ryan
  Emmet's new West Coast reggae band \n\nWhen: Saturday\, April 8  from 8
 :00pm to 11:00pm\n\nDetails: Bakers Brewery supports Music at the Summit 
 – our initiative to promote live local music – brought to you by Mount
 ain Comfort Furnishings.  \n\n&nbsp\;
CATEGORIES:Bakers Brewery Events
END:VEVENT
BEGIN:VTIMEZONE
TZID:America/Denver
X-LIC-LOCATION:America/Denver
BEGIN:DAYLIGHT
DTSTART:20230312T030000
TZOFFSETFROM:-0700
TZOFFSETTO:-0600
TZNAME:MDT
END:DAYLIGHT
END:VTIMEZONE
END:VCALENDAR